BEGIN:VCALENDAR
VERSION:2.0
PRODID:-//Plone.org//NONSGML plone.app.event//EN
X-WR-TIMEZONE:US/Central
BEGIN:VEVENT
SUMMARY:Friends of the Library Buy-The-Bag Book Sale
DTSTART;TZID=US/Central:20210416T090000
DTEND;TZID=US/Central:20210417T150000
DTSTAMP:20260420T173215Z
UID:40a0f3335dc649c6af33fec15c98e03c@saas_stack_varnish:6080
CREATED:20200929T222335Z
LAST-MODIFIED:20210401T164000Z
LOCATION:JPL Parking Lot
URL:https://www.jerseyvillelibrary.org/friends-of-the-library-buy-the-bag-
 book-sale
END:VEVENT
BEGIN:VTIMEZONE
TZID:US/Central
X-LIC-LOCATION:US/Central
BEGIN:DAYLIGHT
DTSTART:20210314T030000
TZNAME:CDT
TZOFFSETFROM:-0600
TZOFFSETTO:-0500
END:DAYLIGHT
END:VTIMEZONE
END:VCALENDAR
