BEGIN:VCALENDAR
VERSION:2.0
PRODID:-//Plone.org//NONSGML plone.app.event//EN
X-WR-TIMEZONE:US/Central
BEGIN:VEVENT
SUMMARY:A Conversation with Marlee Matlin
DTSTART;TZID=US/Central:20220914T190000
DTEND;TZID=US/Central:20220914T200000
DTSTAMP:20260420T143629Z
UID:494044441718442ba523184c6a878992@saas_stack_varnish:6080
CREATED:20220801T192553Z
LAST-MODIFIED:20220801T192558Z
LOCATION:Jerseyville Public Library/Online
URL:https://www.jerseyvillelibrary.org/news-events/a-conversation-with-mar
 lee-matlin
END:VEVENT
BEGIN:VTIMEZONE
TZID:US/Central
X-LIC-LOCATION:US/Central
BEGIN:DAYLIGHT
DTSTART:20220313T030000
TZNAME:CDT
TZOFFSETFROM:-0600
TZOFFSETTO:-0500
END:DAYLIGHT
END:VTIMEZONE
END:VCALENDAR
