BEGIN:VCALENDAR
VERSION:2.0
PRODID:-//Plone.org//NONSGML plone.app.event//EN
X-WR-TIMEZONE:US/Central
BEGIN:VEVENT
SUMMARY:Afterschool Gaming
DTSTART;TZID=US/Central:20221222T153000
DTEND;TZID=US/Central:20221222T170000
DTSTAMP:20260420T134604Z
UID:d2f5bf8f38404a34a1a640ad43761bc6@saas_stack_varnish:6080
CREATED:20221031T191930Z
LAST-MODIFIED:20221031T191941Z
LOCATION:Jerseyville Public Library
URL:https://www.jerseyvillelibrary.org/news-events/afterschool-gaming/2022
 -12-22
END:VEVENT
BEGIN:VTIMEZONE
TZID:US/Central
X-LIC-LOCATION:US/Central
BEGIN:STANDARD
DTSTART:20221106T010000
TZNAME:CST
TZOFFSETFROM:-0500
TZOFFSETTO:-0600
END:STANDARD
END:VTIMEZONE
END:VCALENDAR
