BEGIN:VCALENDAR
VERSION:2.0
PRODID:-//Plone.org//NONSGML plone.app.event//EN
X-WR-TIMEZONE:US/Central
BEGIN:VEVENT
SUMMARY:Anime Afternoons
DTSTART;TZID=US/Central:20230126T153000
DTEND;TZID=US/Central:20230126T170000
DTSTAMP:20260420T121132Z
UID:86587578e8f34eec9d9c0b572ccc231a@saas_stack_varnish:6080
CREATED:20221031T184700Z
LAST-MODIFIED:20221031T191605Z
LOCATION:Jerseyville Public Library
URL:https://www.jerseyvillelibrary.org/news-events/anime-afternoons/2023-0
 1-26
END:VEVENT
BEGIN:VTIMEZONE
TZID:US/Central
X-LIC-LOCATION:US/Central
BEGIN:STANDARD
DTSTART:20221106T010000
TZNAME:CST
TZOFFSETFROM:-0500
TZOFFSETTO:-0600
END:STANDARD
END:VTIMEZONE
END:VCALENDAR
