BEGIN:VCALENDAR
VERSION:2.0
PRODID:-//Plone.org//NONSGML plone.app.event//EN
X-WR-TIMEZONE:US/Central
BEGIN:VEVENT
SUMMARY:Annual Christmas Cookie Exchange
DTSTART;TZID=US/Central:20221206T183000
DTEND;TZID=US/Central:20221206T200000
DTSTAMP:20260420T131934Z
UID:6cf23d264101416385dce9eca39d06f3@saas_stack_varnish:6080
CREATED:20221126T003635Z
LAST-MODIFIED:20221126T003646Z
LOCATION:Jerseyville Public Library
URL:https://www.jerseyvillelibrary.org/news-events/annual-christmas-cookie
 -exchange-1
END:VEVENT
BEGIN:VTIMEZONE
TZID:US/Central
X-LIC-LOCATION:US/Central
BEGIN:STANDARD
DTSTART:20221106T010000
TZNAME:CST
TZOFFSETFROM:-0500
TZOFFSETTO:-0600
END:STANDARD
END:VTIMEZONE
END:VCALENDAR
