BEGIN:VCALENDAR
VERSION:2.0
PRODID:-//Plone.org//NONSGML plone.app.event//EN
X-WR-TIMEZONE:US/Central
BEGIN:VEVENT
SUMMARY:Annual Christmas Cookie Exchange
DTSTART;TZID=US/Central:20211207T183000
DTEND;TZID=US/Central:20211207T193000
DTSTAMP:20260420T172616Z
UID:1fd36ac37f4f4d489507d8b47e09482f@saas_stack_varnish:6080
CREATED:20211130T175842Z
LAST-MODIFIED:20211130T175913Z
LOCATION:Jerseyville Public Library
URL:https://www.jerseyvillelibrary.org/news-events/annual-christmas-cookie
 -exchange
END:VEVENT
BEGIN:VTIMEZONE
TZID:US/Central
X-LIC-LOCATION:US/Central
BEGIN:STANDARD
DTSTART:20211107T010000
TZNAME:CST
TZOFFSETFROM:-0500
TZOFFSETTO:-0600
END:STANDARD
END:VTIMEZONE
END:VCALENDAR
