BEGIN:VCALENDAR
VERSION:2.0
PRODID:-//Plone.org//NONSGML plone.app.event//EN
X-WR-TIMEZONE:US/Central
BEGIN:VEVENT
SUMMARY:Annual Halloween Festival at City Center Park
DTSTART;TZID=US/Central:20231028T100000
DTEND;TZID=US/Central:20231028T130000
DTSTAMP:20260420T094440Z
UID:fc49ac3d60af44a6a7135ef1d155f978@saas_stack_varnish:6080
CREATED:20231001T023622Z
LAST-MODIFIED:20231001T023638Z
LOCATION:City Center Park\, Jerseyville
URL:https://www.jerseyvillelibrary.org/news-events/annual-halloween-festiv
 al-at-city-center-park-1
END:VEVENT
BEGIN:VTIMEZONE
TZID:US/Central
X-LIC-LOCATION:US/Central
BEGIN:DAYLIGHT
DTSTART:20230312T030000
TZNAME:CDT
TZOFFSETFROM:-0600
TZOFFSETTO:-0500
END:DAYLIGHT
END:VTIMEZONE
END:VCALENDAR
