BEGIN:VCALENDAR
VERSION:2.0
PRODID:-//Plone.org//NONSGML plone.app.event//EN
X-WR-TIMEZONE:US/Central
BEGIN:VEVENT
SUMMARY:Annual Halloween Festival
DTSTART;TZID=US/Central:20211030T100000
DTEND;TZID=US/Central:20211030T130000
DTSTAMP:20260420T172859Z
UID:4befd99f18764ab5a9b309a8d7946966@saas_stack_varnish:6080
CREATED:20210926T203152Z
LAST-MODIFIED:20210927T151951Z
LOCATION:City Center Park
URL:https://www.jerseyvillelibrary.org/news-events/annual-halloween-festiv
 al
END:VEVENT
BEGIN:VTIMEZONE
TZID:US/Central
X-LIC-LOCATION:US/Central
BEGIN:DAYLIGHT
DTSTART:20210314T030000
TZNAME:CDT
TZOFFSETFROM:-0600
TZOFFSETTO:-0500
END:DAYLIGHT
END:VTIMEZONE
END:VCALENDAR
