BEGIN:VCALENDAR
VERSION:2.0
PRODID:-//Plone.org//NONSGML plone.app.event//EN
X-WR-TIMEZONE:US/Central
BEGIN:VEVENT
SUMMARY:Babaloo at Downtown Country Christmas Event
DTSTART;TZID=US/Central:20221126T140000
DTEND;TZID=US/Central:20221126T150000
DTSTAMP:20260420T132138Z
UID:95d357c5814f4f4497b43edcc9148f92@saas_stack_varnish:6080
CREATED:20221031T202144Z
LAST-MODIFIED:20221031T202152Z
LOCATION:City Center Park\, Jerseyville
URL:https://www.jerseyvillelibrary.org/news-events/babaloo-at-downtown-cou
 ntry-christmas-event
END:VEVENT
BEGIN:VTIMEZONE
TZID:US/Central
X-LIC-LOCATION:US/Central
BEGIN:STANDARD
DTSTART:20221106T010000
TZNAME:CST
TZOFFSETFROM:-0500
TZOFFSETTO:-0600
END:STANDARD
END:VTIMEZONE
END:VCALENDAR
