BEGIN:VCALENDAR
VERSION:2.0
PRODID:-//Plone.org//NONSGML plone.app.event//EN
X-WR-TIMEZONE:US/Central
BEGIN:VEVENT
SUMMARY:Big Buy-The-Bag Book Sale
DTSTART;TZID=US/Central:20200829T090000
DTEND;TZID=US/Central:20200829T153000
DTSTAMP:20260420T185641Z
UID:5b8f7194db554485b6b24c4e1310b415@saas_stack_varnish:6080
CREATED:20200819T184253Z
LAST-MODIFIED:20200819T190222Z
LOCATION:JPL Parking Lot Tent
URL:https://www.jerseyvillelibrary.org/news-events/big-buy-the-bag-book-sa
 le/2020-08-29
END:VEVENT
BEGIN:VTIMEZONE
TZID:US/Central
X-LIC-LOCATION:US/Central
BEGIN:DAYLIGHT
DTSTART:20200308T030000
TZNAME:CDT
TZOFFSETFROM:-0600
TZOFFSETTO:-0500
END:DAYLIGHT
END:VTIMEZONE
END:VCALENDAR
