BEGIN:VCALENDAR
VERSION:2.0
PRODID:-//Plone.org//NONSGML plone.app.event//EN
X-WR-TIMEZONE:US/Central
BEGIN:VEVENT
SUMMARY:Big Truck Day!
DTSTART;TZID=US/Central:20221010T160000
DTEND;TZID=US/Central:20221010T180000
DTSTAMP:20260420T144646Z
UID:9a41b1e6f1004a0d82c732bbfa86e7cc@saas_stack_varnish:6080
CREATED:20220927T192347Z
LAST-MODIFIED:20220927T192352Z
LOCATION:Wock Lake\, Jerseyville
URL:https://www.jerseyvillelibrary.org/news-events/big-truck-day
END:VEVENT
BEGIN:VTIMEZONE
TZID:US/Central
X-LIC-LOCATION:US/Central
BEGIN:DAYLIGHT
DTSTART:20220313T030000
TZNAME:CDT
TZOFFSETFROM:-0600
TZOFFSETTO:-0500
END:DAYLIGHT
END:VTIMEZONE
END:VCALENDAR
