BEGIN:VCALENDAR
VERSION:2.0
PRODID:-//Plone.org//NONSGML plone.app.event//EN
X-WR-TIMEZONE:US/Central
BEGIN:VEVENT
SUMMARY:Board of Trustees Meeting
DTSTART;TZID=US/Central:20200623T183000
DTEND;TZID=US/Central:20200623T193000
DTSTAMP:20260420T185217Z
UID:9817fdd6a9fc430db0a0cb5e271f747d@saas_stack_varnish:6080
CREATED:20200620T145229Z
LAST-MODIFIED:20200620T145247Z
LOCATION:JPL Meeting Room
URL:https://www.jerseyvillelibrary.org/news-events/board-of-trustees-meeti
 ng
END:VEVENT
BEGIN:VTIMEZONE
TZID:US/Central
X-LIC-LOCATION:US/Central
BEGIN:DAYLIGHT
DTSTART:20200308T030000
TZNAME:CDT
TZOFFSETFROM:-0600
TZOFFSETTO:-0500
END:DAYLIGHT
END:VTIMEZONE
END:VCALENDAR
