BEGIN:VCALENDAR
VERSION:2.0
PRODID:-//Plone.org//NONSGML plone.app.event//EN
X-WR-TIMEZONE:US/Central
BEGIN:VEVENT
SUMMARY:Book Club Movie Night
DTSTART;TZID=US/Central:20210330T180000
DTEND;TZID=US/Central:20210330T193000
DTSTAMP:20260420T185728Z
UID:6cb0be7d95cf4c83be56953849164be4@saas_stack_varnish:6080
CREATED:20210302T210553Z
LAST-MODIFIED:20210302T210611Z
LOCATION:JPL Meeting Room
URL:https://www.jerseyvillelibrary.org/news-events/book-club-movie-night
END:VEVENT
BEGIN:VTIMEZONE
TZID:US/Central
X-LIC-LOCATION:US/Central
BEGIN:DAYLIGHT
DTSTART:20210314T030000
TZNAME:CDT
TZOFFSETFROM:-0600
TZOFFSETTO:-0500
END:DAYLIGHT
END:VTIMEZONE
END:VCALENDAR
