BEGIN:VCALENDAR
VERSION:2.0
PRODID:-//Plone.org//NONSGML plone.app.event//EN
X-WR-TIMEZONE:US/Central
BEGIN:VEVENT
SUMMARY:Christmas Craft Night - Santa Mitten
DTSTART;TZID=US/Central:20231130T180000
DTEND;TZID=US/Central:20231130T193000
DTSTAMP:20260420T082030Z
UID:0d0e3bac12324dd092237c6b5bb74641@saas_stack_varnish:6080
CREATED:20231031T151222Z
LAST-MODIFIED:20231031T151229Z
LOCATION:Jerseyville Public Library
URL:https://www.jerseyvillelibrary.org/news-events/christmas-craft-night-s
 anta-mitten
END:VEVENT
BEGIN:VTIMEZONE
TZID:US/Central
X-LIC-LOCATION:US/Central
BEGIN:STANDARD
DTSTART:20231105T010000
TZNAME:CST
TZOFFSETFROM:-0500
TZOFFSETTO:-0600
END:STANDARD
END:VTIMEZONE
END:VCALENDAR
