BEGIN:VCALENDAR
VERSION:2.0
PRODID:-//Plone.org//NONSGML plone.app.event//EN
X-WR-TIMEZONE:US/Central
BEGIN:VEVENT
SUMMARY:Christmas Crafts for Kids
DTSTART;TZID=US/Central:20211204T100000
DTEND;TZID=US/Central:20211204T120000
DTSTAMP:20260420T172742Z
UID:3e426922078e4626b2ecc7089debcb0f@saas_stack_varnish:6080
CREATED:20211130T175605Z
DESCRIPTION:For Pre-K - Grade 8\nStop into the library between 10:00 am an
 d Noon to make a variety of crafts (while supplies last).
LAST-MODIFIED:20211130T175610Z
LOCATION:Jerseyville Public Library
URL:https://www.jerseyvillelibrary.org/news-events/christmas-crafts-for-ki
 ds
END:VEVENT
BEGIN:VTIMEZONE
TZID:US/Central
X-LIC-LOCATION:US/Central
BEGIN:STANDARD
DTSTART:20211107T010000
TZNAME:CST
TZOFFSETFROM:-0500
TZOFFSETTO:-0600
END:STANDARD
END:VTIMEZONE
END:VCALENDAR
