BEGIN:VCALENDAR
VERSION:2.0
PRODID:-//Plone.org//NONSGML plone.app.event//EN
X-WR-TIMEZONE:US/Central
BEGIN:VEVENT
SUMMARY:Christmas Day
DTSTART;VALUE=DATE:20281225
DTEND;VALUE=DATE:20281226
DTSTAMP:20260424T071647Z
UID:66b49452cf334567b2fd4984396c8cb6@saas_stack_varnish:6080
CATEGORIES:Holiday,Closure
CREATED:20250715T200810Z
LAST-MODIFIED:20250715T200818Z
URL:https://www.jerseyvillelibrary.org/news-events/christmas-day/2028-12-2
 5
END:VEVENT
END:VCALENDAR
