BEGIN:VCALENDAR
VERSION:2.0
PRODID:-//Plone.org//NONSGML plone.app.event//EN
X-WR-TIMEZONE:US/Central
BEGIN:VEVENT
SUMMARY:Christmas Day
DTSTART;VALUE=DATE:20261225
DTEND;VALUE=DATE:20261226
DTSTAMP:20260424T055402Z
UID:66b49452cf334567b2fd4984396c8cb6@saas_stack_varnish:6080
RRULE:FREQ=YEARLY;COUNT=7;BYMONTHDAY=25;BYMONTH=12
CATEGORIES:Holiday,Closure
CREATED:20250715T200810Z
LAST-MODIFIED:20250715T200818Z
URL:https://www.jerseyvillelibrary.org/news-events/christmas-day
END:VEVENT
END:VCALENDAR
