BEGIN:VCALENDAR
VERSION:2.0
PRODID:-//Plone.org//NONSGML plone.app.event//EN
X-WR-TIMEZONE:US/Central
BEGIN:VEVENT
SUMMARY:Christmas Eve
DTSTART;TZID=US/Central:20311224T120000
DTEND;TZID=US/Central:20311224T200000
DTSTAMP:20260424T071810Z
UID:aa9a07dd162d4c56a5b8f1bfa2d93e7d@saas_stack_varnish:6080
CATEGORIES:Holiday,Early Closure
CREATED:20250715T200254Z
LAST-MODIFIED:20250715T200301Z
URL:https://www.jerseyvillelibrary.org/news-events/christmas-eve/2031-12-2
 4
END:VEVENT
BEGIN:VTIMEZONE
TZID:US/Central
X-LIC-LOCATION:US/Central
BEGIN:STANDARD
DTSTART:20311102T010000
TZNAME:CST
TZOFFSETFROM:-0500
TZOFFSETTO:-0600
END:STANDARD
END:VTIMEZONE
END:VCALENDAR
