BEGIN:VCALENDAR
VERSION:2.0
PRODID:-//Plone.org//NONSGML plone.app.event//EN
X-WR-TIMEZONE:US/Central
BEGIN:VEVENT
SUMMARY:Christmas Movie for Kids
DTSTART;TZID=US/Central:20211218T100000
DTEND;TZID=US/Central:20211218T120000
DTSTAMP:20260420T173048Z
UID:1edc4941228f4a44a161258f0f266eaf@saas_stack_varnish:6080
CREATED:20211130T180049Z
LAST-MODIFIED:20211130T180054Z
LOCATION:Jerseyville Public Library
URL:https://www.jerseyvillelibrary.org/news-events/christmas-movie-for-kid
 s
END:VEVENT
BEGIN:VTIMEZONE
TZID:US/Central
X-LIC-LOCATION:US/Central
BEGIN:STANDARD
DTSTART:20211107T010000
TZNAME:CST
TZOFFSETFROM:-0500
TZOFFSETTO:-0600
END:STANDARD
END:VTIMEZONE
END:VCALENDAR
