BEGIN:VCALENDAR
VERSION:2.0
PRODID:-//Plone.org//NONSGML plone.app.event//EN
X-WR-TIMEZONE:US/Central
BEGIN:VEVENT
SUMMARY:City Center Week - Ice Cream Social
DTSTART;TZID=US/Central:20210823T180000
DTEND;TZID=US/Central:20210823T200000
DTSTAMP:20260420T173037Z
UID:6ad6e8b65270456998a2e263705473d1@saas_stack_varnish:6080
CREATED:20210731T193924Z
LAST-MODIFIED:20210731T193930Z
LOCATION:Jersey County Courthouse Lawn
URL:https://www.jerseyvillelibrary.org/news-events/city-center-week-ice-cr
 eam-social
END:VEVENT
BEGIN:VTIMEZONE
TZID:US/Central
X-LIC-LOCATION:US/Central
BEGIN:DAYLIGHT
DTSTART:20210314T030000
TZNAME:CDT
TZOFFSETFROM:-0600
TZOFFSETTO:-0500
END:DAYLIGHT
END:VTIMEZONE
END:VCALENDAR
