BEGIN:VCALENDAR
VERSION:2.0
PRODID:-//Plone.org//NONSGML plone.app.event//EN
X-WR-TIMEZONE:US/Central
BEGIN:VEVENT
SUMMARY:Closed - July 4 - Independence Day
DTSTART;VALUE=DATE:20230704
DTEND;VALUE=DATE:20230705
DTSTAMP:20260422T095911Z
UID:d9493bf6c84347d2acb6cbfab0fbb8d7@saas_stack_varnish:6080
CREATED:20230630T202311Z
LAST-MODIFIED:20230630T202317Z
URL:https://www.jerseyvillelibrary.org/news-events/closed-july-4-independe
 nce-day
END:VEVENT
END:VCALENDAR
