BEGIN:VCALENDAR
VERSION:2.0
PRODID:-//Plone.org//NONSGML plone.app.event//EN
X-WR-TIMEZONE:US/Central
BEGIN:VEVENT
SUMMARY:Coffee Talk for Online Book Club
DTSTART;TZID=US/Central:20200827T170000
DTEND;TZID=US/Central:20200827T180000
DTSTAMP:20260420T185356Z
UID:f811f74ec0bc485c801fd7c07129f667@saas_stack_varnish:6080
CREATED:20200819T183819Z
LAST-MODIFIED:20200819T183901Z
LOCATION:JPL Meeting Room
URL:https://www.jerseyvillelibrary.org/news-events/coffee-talk-for-online-
 book-club
END:VEVENT
BEGIN:VTIMEZONE
TZID:US/Central
X-LIC-LOCATION:US/Central
BEGIN:DAYLIGHT
DTSTART:20200308T030000
TZNAME:CDT
TZOFFSETFROM:-0600
TZOFFSETTO:-0500
END:DAYLIGHT
END:VTIMEZONE
END:VCALENDAR
