BEGIN:VCALENDAR
VERSION:2.0
PRODID:-//Plone.org//NONSGML plone.app.event//EN
X-WR-TIMEZONE:US/Central
BEGIN:VEVENT
SUMMARY:Crafternoon with Chris - Art of Embossing
DTSTART;TZID=US/Central:20230307T100000
DTEND;TZID=US/Central:20230307T110000
DTSTAMP:20260420T121155Z
UID:f19901b66bdc4e0c81fe6a71e2c27785@saas_stack_varnish:6080
CREATED:20230227T182359Z
LAST-MODIFIED:20230227T182425Z
LOCATION:Jerseyville Public Library
URL:https://www.jerseyvillelibrary.org/news-events/crafternoon-with-chris-
 art-of-embossing
END:VEVENT
BEGIN:VTIMEZONE
TZID:US/Central
X-LIC-LOCATION:US/Central
BEGIN:STANDARD
DTSTART:20221106T010000
TZNAME:CST
TZOFFSETFROM:-0500
TZOFFSETTO:-0600
END:STANDARD
END:VTIMEZONE
END:VCALENDAR
