BEGIN:VCALENDAR
VERSION:2.0
PRODID:-//Plone.org//NONSGML plone.app.event//EN
X-WR-TIMEZONE:US/Central
BEGIN:VEVENT
SUMMARY:Crafts with Chris Fall Book Leaves Wreath
DTSTART;TZID=US/Central:20201027T100000
DTEND;TZID=US/Central:20201027T120000
DTSTAMP:20260419T152755Z
UID:b7d6caf7f68d4807ba636fe7b368dbfa@saas_stack_varnish:6080
CREATED:20200930T191525Z
LAST-MODIFIED:20200930T191538Z
LOCATION:JPL Meeting Room
URL:https://www.jerseyvillelibrary.org/news-events/crafts-with-chris-fall-
 book-leaves-wreath
END:VEVENT
BEGIN:VTIMEZONE
TZID:US/Central
X-LIC-LOCATION:US/Central
BEGIN:DAYLIGHT
DTSTART:20200308T030000
TZNAME:CDT
TZOFFSETFROM:-0600
TZOFFSETTO:-0500
END:DAYLIGHT
END:VTIMEZONE
END:VCALENDAR
