BEGIN:VCALENDAR
VERSION:2.0
PRODID:-//Plone.org//NONSGML plone.app.event//EN
X-WR-TIMEZONE:US/Central
BEGIN:VEVENT
SUMMARY:Crafts with Chris Spring Tin Can Owls
DTSTART;TZID=US/Central:20210518T183000
DTEND;TZID=US/Central:20210518T193000
DTSTAMP:20260420T172726Z
UID:45292dbdce1549859656db0fc0660758@saas_stack_varnish:6080
CREATED:20210504T001246Z
DESCRIPTION:Craft night where Chris will lead you in making Tin Can Owls.
LAST-MODIFIED:20210504T001300Z
LOCATION:Jerseyville Public Library
URL:https://www.jerseyvillelibrary.org/news-events/crafts-with-chris-sprin
 g-tin-can-owls
END:VEVENT
BEGIN:VTIMEZONE
TZID:US/Central
X-LIC-LOCATION:US/Central
BEGIN:DAYLIGHT
DTSTART:20210314T030000
TZNAME:CDT
TZOFFSETFROM:-0600
TZOFFSETTO:-0500
END:DAYLIGHT
END:VTIMEZONE
END:VCALENDAR
