BEGIN:VCALENDAR
VERSION:2.0
PRODID:-//Plone.org//NONSGML plone.app.event//EN
X-WR-TIMEZONE:US/Central
BEGIN:VEVENT
SUMMARY:DJ Dinosaur Dance Party
DTSTART;TZID=US/Central:20210430T180000
DTEND;TZID=US/Central:20210430T193000
DTSTAMP:20260420T172538Z
UID:98ae53421df243c787b6da68e30549c4@saas_stack_varnish:6080
CREATED:20210401T163458Z
LAST-MODIFIED:20210401T163522Z
LOCATION:Wock Lake
URL:https://www.jerseyvillelibrary.org/news-events/dj-dinosaur-dance-party
END:VEVENT
BEGIN:VTIMEZONE
TZID:US/Central
X-LIC-LOCATION:US/Central
BEGIN:DAYLIGHT
DTSTART:20210314T030000
TZNAME:CDT
TZOFFSETFROM:-0600
TZOFFSETTO:-0500
END:DAYLIGHT
END:VTIMEZONE
END:VCALENDAR
