BEGIN:VCALENDAR
VERSION:2.0
PRODID:-//Plone.org//NONSGML plone.app.event//EN
X-WR-TIMEZONE:US/Central
BEGIN:VEVENT
SUMMARY:Downtown Country Christmas Festival
DTSTART;TZID=US/Central:20211127T130000
DTEND;TZID=US/Central:20211127T170000
DTSTAMP:20260420T173200Z
UID:02fc69c8122e45dbaafad488fc3eab3a@saas_stack_varnish:6080
CREATED:20211102T163654Z
DESCRIPTION:Downtown Country Christmas Festival Jerseyville
LAST-MODIFIED:20211102T163704Z
LOCATION:City Center Park
URL:https://www.jerseyvillelibrary.org/news-events/downtown-country-christ
 mas-festival
END:VEVENT
BEGIN:VTIMEZONE
TZID:US/Central
X-LIC-LOCATION:US/Central
BEGIN:STANDARD
DTSTART:20211107T010000
TZNAME:CST
TZOFFSETFROM:-0500
TZOFFSETTO:-0600
END:STANDARD
END:VTIMEZONE
END:VCALENDAR
