BEGIN:VCALENDAR
VERSION:2.0
PRODID:-//Plone.org//NONSGML plone.app.event//EN
X-WR-TIMEZONE:US/Central
BEGIN:VEVENT
SUMMARY:Early Closing - Fair Parade
DTSTART;TZID=US/Central:20230711T150000
DTEND;TZID=US/Central:20230711T200000
DTSTAMP:20260420T093022Z
UID:caef83d5f8a44852a12ab782197eaf0e@saas_stack_varnish:6080
CREATED:20230630T202635Z
LAST-MODIFIED:20230630T202641Z
URL:https://www.jerseyvillelibrary.org/news-events/early-closing-fair-para
 de
END:VEVENT
BEGIN:VTIMEZONE
TZID:US/Central
X-LIC-LOCATION:US/Central
BEGIN:DAYLIGHT
DTSTART:20230312T030000
TZNAME:CDT
TZOFFSETFROM:-0600
TZOFFSETTO:-0500
END:DAYLIGHT
END:VTIMEZONE
END:VCALENDAR
