BEGIN:VCALENDAR
VERSION:2.0
PRODID:-//Plone.org//NONSGML plone.app.event//EN
X-WR-TIMEZONE:US/Central
BEGIN:VEVENT
SUMMARY:Fall Book Sale
DTSTART;TZID=US/Central:20221015T090000
DTEND;TZID=US/Central:20221015T140000
DTSTAMP:20260420T143537Z
UID:066a30c3973f423d94a26876849ef14d@saas_stack_varnish:6080
CREATED:20220927T193358Z
LAST-MODIFIED:20220927T193404Z
LOCATION:Jerseyville Public Library
URL:https://www.jerseyvillelibrary.org/news-events/fall-book-sale-2
END:VEVENT
BEGIN:VTIMEZONE
TZID:US/Central
X-LIC-LOCATION:US/Central
BEGIN:DAYLIGHT
DTSTART:20220313T030000
TZNAME:CDT
TZOFFSETFROM:-0600
TZOFFSETTO:-0500
END:DAYLIGHT
END:VTIMEZONE
END:VCALENDAR
