BEGIN:VCALENDAR
VERSION:2.0
PRODID:-//Plone.org//NONSGML plone.app.event//EN
X-WR-TIMEZONE:US/Central
BEGIN:VEVENT
SUMMARY:Fall Book Sale 2021 Preview Sale
DTSTART;TZID=US/Central:20211014T150000
DTEND;TZID=US/Central:20211014T190000
DTSTAMP:20260420T172905Z
UID:2b24c2cd3e7b476fa8a4b1d2a66be56e@saas_stack_varnish:6080
CREATED:20211001T192051Z
LAST-MODIFIED:20211001T192103Z
LOCATION:Jerseyville Public Library
URL:https://www.jerseyvillelibrary.org/news-events/fall-book-sale-2021-pre
 view-sale
END:VEVENT
BEGIN:VTIMEZONE
TZID:US/Central
X-LIC-LOCATION:US/Central
BEGIN:DAYLIGHT
DTSTART:20210314T030000
TZNAME:CDT
TZOFFSETFROM:-0600
TZOFFSETTO:-0500
END:DAYLIGHT
END:VTIMEZONE
END:VCALENDAR
