BEGIN:VCALENDAR
VERSION:2.0
PRODID:-//Plone.org//NONSGML plone.app.event//EN
X-WR-TIMEZONE:US/Central
BEGIN:VEVENT
SUMMARY:Fall Book Sale
DTSTART;TZID=US/Central:20221013T150000
DTEND;TZID=US/Central:20221013T190000
DTSTAMP:20260420T143442Z
UID:8c838f7c57204430b8aa1e5f11cb8ee0@saas_stack_varnish:6080
CREATED:20220927T193053Z
LAST-MODIFIED:20220927T193058Z
LOCATION:Jerseyville Public Library
URL:https://www.jerseyvillelibrary.org/news-events/fall-book-sale
END:VEVENT
BEGIN:VTIMEZONE
TZID:US/Central
X-LIC-LOCATION:US/Central
BEGIN:DAYLIGHT
DTSTART:20220313T030000
TZNAME:CDT
TZOFFSETFROM:-0600
TZOFFSETTO:-0500
END:DAYLIGHT
END:VTIMEZONE
END:VCALENDAR
