BEGIN:VCALENDAR
VERSION:2.0
PRODID:-//Plone.org//NONSGML plone.app.event//EN
X-WR-TIMEZONE:US/Central
BEGIN:VEVENT
SUMMARY:Family Reading Night - Mini Golf & Special Reader
DTSTART;TZID=US/Central:20221114T180000
DTEND;TZID=US/Central:20221114T193000
DTSTAMP:20260420T131929Z
UID:aba42a9912fc4adda7fca611fda92796@saas_stack_varnish:6080
CONTACT:Laurie Ingram\, lingram@jerseyvillelibrary.org
CREATED:20221031T192444Z
LAST-MODIFIED:20221031T192735Z
LOCATION:Jerseyville Public Library
URL:https://www.jerseyvillelibrary.org/news-events/family-reading-night-mi
 ni
END:VEVENT
BEGIN:VTIMEZONE
TZID:US/Central
X-LIC-LOCATION:US/Central
BEGIN:STANDARD
DTSTART:20221106T010000
TZNAME:CST
TZOFFSETFROM:-0500
TZOFFSETTO:-0600
END:STANDARD
END:VTIMEZONE
END:VCALENDAR
