BEGIN:VCALENDAR
VERSION:2.0
PRODID:-//Plone.org//NONSGML plone.app.event//EN
X-WR-TIMEZONE:US/Central
BEGIN:VEVENT
SUMMARY:Folk Concert at Wock Lake
DTSTART;TZID=US/Central:20230705T183000
DTEND;TZID=US/Central:20230705T193000
DTSTAMP:20260420T094320Z
UID:d6dd0142c7c24f3b93d338b393ca6ff9@saas_stack_varnish:6080
CREATED:20230630T202512Z
LAST-MODIFIED:20230630T202522Z
LOCATION:Wock Lake
URL:https://www.jerseyvillelibrary.org/news-events/folk-concert-at-wock-la
 ke
END:VEVENT
BEGIN:VTIMEZONE
TZID:US/Central
X-LIC-LOCATION:US/Central
BEGIN:DAYLIGHT
DTSTART:20230312T030000
TZNAME:CDT
TZOFFSETFROM:-0600
TZOFFSETTO:-0500
END:DAYLIGHT
END:VTIMEZONE
END:VCALENDAR
