BEGIN:VCALENDAR
VERSION:2.0
PRODID:-//Plone.org//NONSGML plone.app.event//EN
X-WR-TIMEZONE:US/Central
BEGIN:VEVENT
SUMMARY:Free Comic Book Day Fest
DTSTART;TZID=US/Central:20220507T120000
DTEND;TZID=US/Central:20220507T150000
DTSTAMP:20260420T144718Z
UID:d10bee38f98b4cafb74048cbc1cb6595@saas_stack_varnish:6080
CREATED:20220429T155216Z
DESCRIPTION:free comic book
LAST-MODIFIED:20220429T155224Z
LOCATION:Jerseyville Public Library
URL:https://www.jerseyvillelibrary.org/news-events/free-comic-book-day-fes
 t-1
END:VEVENT
BEGIN:VTIMEZONE
TZID:US/Central
X-LIC-LOCATION:US/Central
BEGIN:DAYLIGHT
DTSTART:20220313T030000
TZNAME:CDT
TZOFFSETFROM:-0600
TZOFFSETTO:-0500
END:DAYLIGHT
END:VTIMEZONE
END:VCALENDAR
