BEGIN:VCALENDAR
VERSION:2.0
PRODID:-//Plone.org//NONSGML plone.app.event//EN
X-WR-TIMEZONE:US/Central
BEGIN:VEVENT
SUMMARY:Friends of the Library Fall Book Sale
DTSTART;TZID=US/Central:20231012T150000
DTEND;TZID=US/Central:20231014T140000
DTSTAMP:20260420T094020Z
UID:7ed31e68cd21480ab7231799a29ba6ac@saas_stack_varnish:6080
CREATED:20230929T212430Z
LAST-MODIFIED:20230929T212436Z
LOCATION:Jerseyville Public Library
URL:https://www.jerseyvillelibrary.org/news-events/friends-of-the-library-
 fall-book-sale
END:VEVENT
BEGIN:VTIMEZONE
TZID:US/Central
X-LIC-LOCATION:US/Central
BEGIN:DAYLIGHT
DTSTART:20230312T030000
TZNAME:CDT
TZOFFSETFROM:-0600
TZOFFSETTO:-0500
END:DAYLIGHT
END:VTIMEZONE
END:VCALENDAR
