BEGIN:VCALENDAR
VERSION:2.0
PRODID:-//Plone.org//NONSGML plone.app.event//EN
X-WR-TIMEZONE:US/Central
BEGIN:VEVENT
SUMMARY:Full Steam Ahead - Ages K-7
DTSTART;TZID=US/Central:20220119T160000
DTEND;TZID=US/Central:20220119T170000
DTSTAMP:20260420T161433Z
UID:01f3202e8273410d981fd0bcce7b4e5e@saas_stack_varnish:6080
CREATED:20211227T224218Z
LAST-MODIFIED:20211227T224224Z
LOCATION:Jerseyville Public Library
URL:https://www.jerseyvillelibrary.org/news-events/full-steam-ahead-ages-k
 -7
END:VEVENT
BEGIN:VTIMEZONE
TZID:US/Central
X-LIC-LOCATION:US/Central
BEGIN:STANDARD
DTSTART:20211107T010000
TZNAME:CST
TZOFFSETFROM:-0500
TZOFFSETTO:-0600
END:STANDARD
END:VTIMEZONE
END:VCALENDAR
