BEGIN:VCALENDAR
VERSION:2.0
PRODID:-//Plone.org//NONSGML plone.app.event//EN
X-WR-TIMEZONE:US/Central
BEGIN:VEVENT
SUMMARY:Full STEAM Ahead
DTSTART;TZID=US/Central:20220316T160000
DTEND;TZID=US/Central:20220316T170000
DTSTAMP:20260420T155917Z
UID:4eb89b1ba53b4522a3c360a58004888a@saas_stack_varnish:6080
CREATED:20220301T194356Z
DESCRIPTION:Full STEAM Ahead program for Gr. K-7
LAST-MODIFIED:20220301T194401Z
LOCATION:Jerseyville Public Library
URL:https://www.jerseyvillelibrary.org/news-events/full-steam-ahead
END:VEVENT
BEGIN:VTIMEZONE
TZID:US/Central
X-LIC-LOCATION:US/Central
BEGIN:DAYLIGHT
DTSTART:20220313T030000
TZNAME:CDT
TZOFFSETFROM:-0600
TZOFFSETTO:-0500
END:DAYLIGHT
END:VTIMEZONE
END:VCALENDAR
