BEGIN:VCALENDAR
VERSION:2.0
PRODID:-//Plone.org//NONSGML plone.app.event//EN
X-WR-TIMEZONE:US/Central
BEGIN:VEVENT
SUMMARY:Ghostbusters Afterlife Family Movie Event
DTSTART;TZID=US/Central:20231008T180000
DTEND;TZID=US/Central:20231008T210000
DTSTAMP:20260420T094029Z
UID:33d45bfd92a04562bc4a923859e55874@saas_stack_varnish:6080
CREATED:20230929T211959Z
LAST-MODIFIED:20230929T212007Z
LOCATION:Jerseyville Public Library
URL:https://www.jerseyvillelibrary.org/news-events/ghostbusters-afterlife-
 family-movie-event
END:VEVENT
BEGIN:VTIMEZONE
TZID:US/Central
X-LIC-LOCATION:US/Central
BEGIN:DAYLIGHT
DTSTART:20230312T030000
TZNAME:CDT
TZOFFSETFROM:-0600
TZOFFSETTO:-0500
END:DAYLIGHT
END:VTIMEZONE
END:VCALENDAR
