BEGIN:VCALENDAR
VERSION:2.0
PRODID:-//Plone.org//NONSGML plone.app.event//EN
X-WR-TIMEZONE:US/Central
BEGIN:VEVENT
SUMMARY:Hallmark Movie Night
DTSTART;TZID=US/Central:20231219T180000
DTEND;TZID=US/Central:20231219T193000
DTSTAMP:20260420T093101Z
UID:7b24bae8737142c4973901c63cf95592@saas_stack_varnish:6080
CREATED:20231128T213541Z
LAST-MODIFIED:20231128T213547Z
LOCATION:Jerseyville Public Library
URL:https://www.jerseyvillelibrary.org/news-events/hallmark-movie-night
END:VEVENT
BEGIN:VTIMEZONE
TZID:US/Central
X-LIC-LOCATION:US/Central
BEGIN:STANDARD
DTSTART:20231105T010000
TZNAME:CST
TZOFFSETFROM:-0500
TZOFFSETTO:-0600
END:STANDARD
END:VTIMEZONE
END:VCALENDAR
