BEGIN:VCALENDAR
VERSION:2.0
PRODID:-//Plone.org//NONSGML plone.app.event//EN
X-WR-TIMEZONE:US/Central
BEGIN:VEVENT
SUMMARY:ILP Presents: A Conversation with Caitlin Doughty
DTSTART;TZID=US/Central:20221116T190000
DTEND;TZID=US/Central:20221116T200000
DTSTAMP:20260420T134512Z
UID:646d8ffeb8564515b08102d3f1a75d29@saas_stack_varnish:6080
CREATED:20221031T193116Z
LAST-MODIFIED:20221031T193151Z
LOCATION:Jerseyville Public Library
URL:https://www.jerseyvillelibrary.org/news-events/ilp-presents-a-conversa
 tion-with-caitlin-doughty
END:VEVENT
BEGIN:VTIMEZONE
TZID:US/Central
X-LIC-LOCATION:US/Central
BEGIN:STANDARD
DTSTART:20221106T010000
TZNAME:CST
TZOFFSETFROM:-0500
TZOFFSETTO:-0600
END:STANDARD
END:VTIMEZONE
END:VCALENDAR
