BEGIN:VCALENDAR
VERSION:2.0
PRODID:-//Plone.org//NONSGML plone.app.event//EN
X-WR-TIMEZONE:US/Central
BEGIN:VEVENT
SUMMARY:ILP Presents: A Conversation with Jesmyn Ward
DTSTART;TZID=US/Central:20230606T190000
DTEND;TZID=US/Central:20230606T200000
DTSTAMP:20260420T105337Z
UID:218c81d2e50a439095468082c78833e7@saas_stack_varnish:6080
CREATED:20230530T152540Z
LAST-MODIFIED:20230530T152544Z
URL:https://www.jerseyvillelibrary.org/news-events/ilp-presents-a-conversa
 tion-with-jesmyn-ward-1
END:VEVENT
BEGIN:VTIMEZONE
TZID:US/Central
X-LIC-LOCATION:US/Central
BEGIN:DAYLIGHT
DTSTART:20230312T030000
TZNAME:CDT
TZOFFSETFROM:-0600
TZOFFSETTO:-0500
END:DAYLIGHT
END:VTIMEZONE
END:VCALENDAR
