BEGIN:VCALENDAR
VERSION:2.0
PRODID:-//Plone.org//NONSGML plone.app.event//EN
X-WR-TIMEZONE:US/Central
BEGIN:VEVENT
SUMMARY:ILP Presents: A Conversation with Jesmyn Ward
DTSTART;TZID=US/Central:20221012T190000
DTEND;TZID=US/Central:20221012T200000
DTSTAMP:20260420T145455Z
UID:649bc8a4b8d94dada91a56184df8a13a@saas_stack_varnish:6080
CREATED:20220927T192621Z
LAST-MODIFIED:20220927T192634Z
LOCATION:Jerseyville Public Library
URL:https://www.jerseyvillelibrary.org/news-events/ilp-presents-a-conversa
 tion-with-jesmyn-ward
END:VEVENT
BEGIN:VTIMEZONE
TZID:US/Central
X-LIC-LOCATION:US/Central
BEGIN:DAYLIGHT
DTSTART:20220313T030000
TZNAME:CDT
TZOFFSETFROM:-0600
TZOFFSETTO:-0500
END:DAYLIGHT
END:VTIMEZONE
END:VCALENDAR
