BEGIN:VCALENDAR
VERSION:2.0
PRODID:-//Plone.org//NONSGML plone.app.event//EN
X-WR-TIMEZONE:US/Central
BEGIN:VEVENT
SUMMARY:ILP Presents: A Conversation with Kwame Alexander
DTSTART;TZID=US/Central:20230208T190000
DTEND;TZID=US/Central:20230208T200000
DTSTAMP:20260420T121131Z
UID:95afe257783b448da07a576e6d44d5cd@saas_stack_varnish:6080
CREATED:20230130T223618Z
LAST-MODIFIED:20230130T223625Z
URL:https://www.jerseyvillelibrary.org/news-events/ilp-presents-a-conversa
 tion-with-kwame-alexander
END:VEVENT
BEGIN:VTIMEZONE
TZID:US/Central
X-LIC-LOCATION:US/Central
BEGIN:STANDARD
DTSTART:20221106T010000
TZNAME:CST
TZOFFSETFROM:-0500
TZOFFSETTO:-0600
END:STANDARD
END:VTIMEZONE
END:VCALENDAR
