BEGIN:VCALENDAR
VERSION:2.0
PRODID:-//Plone.org//NONSGML plone.app.event//EN
X-WR-TIMEZONE:US/Central
BEGIN:VEVENT
SUMMARY:ILP Presents: A Conversation with Shauna Sever
DTSTART;TZID=US/Central:20221213T190000
DTEND;TZID=US/Central:20221213T200000
DTSTAMP:20260420T133812Z
UID:220a512681fb4146bf1f42f40c26276a@saas_stack_varnish:6080
CREATED:20221126T004304Z
LAST-MODIFIED:20221126T004316Z
LOCATION:Online
URL:https://www.jerseyvillelibrary.org/news-events/ilp-presents-a-conversa
 tion-with-shauna-sever
END:VEVENT
BEGIN:VTIMEZONE
TZID:US/Central
X-LIC-LOCATION:US/Central
BEGIN:STANDARD
DTSTART:20221106T010000
TZNAME:CST
TZOFFSETFROM:-0500
TZOFFSETTO:-0600
END:STANDARD
END:VTIMEZONE
END:VCALENDAR
