BEGIN:VCALENDAR
VERSION:2.0
PRODID:-//Plone.org//NONSGML plone.app.event//EN
X-WR-TIMEZONE:US/Central
BEGIN:VEVENT
SUMMARY:ILP Presents: Secrets of a Puzzle Master\, An Eve with Will Shortz
DTSTART;TZID=US/Central:20230425T190000
DTEND;TZID=US/Central:20230425T200000
DTSTAMP:20260420T110051Z
UID:b3757432528a48bcb407562ac3cd09bb@saas_stack_varnish:6080
CREATED:20230329T201648Z
LAST-MODIFIED:20230329T201702Z
URL:https://www.jerseyvillelibrary.org/news-events/ilp-presents-secrets-of
 -a-puzzle-master-an-eve-with-will-shortz
END:VEVENT
BEGIN:VTIMEZONE
TZID:US/Central
X-LIC-LOCATION:US/Central
BEGIN:DAYLIGHT
DTSTART:20230312T030000
TZNAME:CDT
TZOFFSETFROM:-0600
TZOFFSETTO:-0500
END:DAYLIGHT
END:VTIMEZONE
END:VCALENDAR
