BEGIN:VCALENDAR
VERSION:2.0
PRODID:-//Plone.org//NONSGML plone.app.event//EN
X-WR-TIMEZONE:US/Central
BEGIN:VEVENT
SUMMARY:ILP Presents: Stephen Graham Jones
DTSTART;TZID=US/Central:20231004T190000
DTEND;TZID=US/Central:20231004T200000
DTSTAMP:20260419T212138Z
UID:54dc2ab54a744cac8a1a54d0e039bb4b@saas_stack_varnish:6080
CREATED:20230929T211403Z
LAST-MODIFIED:20230929T211411Z
URL:https://www.jerseyvillelibrary.org/news-events/ilp-presents-stephen-gr
 aham-jones
END:VEVENT
BEGIN:VTIMEZONE
TZID:US/Central
X-LIC-LOCATION:US/Central
BEGIN:DAYLIGHT
DTSTART:20230312T030000
TZNAME:CDT
TZOFFSETFROM:-0600
TZOFFSETTO:-0500
END:DAYLIGHT
END:VTIMEZONE
END:VCALENDAR
