BEGIN:VCALENDAR
VERSION:2.0
PRODID:-//Plone.org//NONSGML plone.app.event//EN
X-WR-TIMEZONE:US/Central
BEGIN:VEVENT
SUMMARY:ILP Presents: The Weird & Wonderful Word with Mary Roach
DTSTART;TZID=US/Central:20230301T190000
DTEND;TZID=US/Central:20230301T200000
DTSTAMP:20260420T121555Z
UID:cd403bb52a4a4fc48d21634f9743d25e@saas_stack_varnish:6080
CREATED:20230227T181702Z
LAST-MODIFIED:20230227T181720Z
LOCATION:Online with Zoom Link
URL:https://www.jerseyvillelibrary.org/news-events/ilp-presents-the-weird-
 wonderful-word-with-mary-roach
END:VEVENT
BEGIN:VTIMEZONE
TZID:US/Central
X-LIC-LOCATION:US/Central
BEGIN:STANDARD
DTSTART:20221106T010000
TZNAME:CST
TZOFFSETFROM:-0500
TZOFFSETTO:-0600
END:STANDARD
END:VTIMEZONE
END:VCALENDAR
