BEGIN:VCALENDAR
VERSION:2.0
PRODID:-//Plone.org//NONSGML plone.app.event//EN
X-WR-TIMEZONE:US/Central
BEGIN:VEVENT
SUMMARY:Independence Day
DTSTART;VALUE=DATE:20240704
DTEND;VALUE=DATE:20240705
DTSTAMP:20260420T081450Z
UID:d5d29029819c42c7bff23102e29ec052@saas_stack_varnish:6080
CATEGORIES:closure
CREATED:20240621T210937Z
DESCRIPTION:Closed.
LAST-MODIFIED:20240626T151459Z
URL:https://www.jerseyvillelibrary.org/news-events/independence-day
END:VEVENT
END:VCALENDAR
