BEGIN:VCALENDAR
VERSION:2.0
PRODID:-//Plone.org//NONSGML plone.app.event//EN
X-WR-TIMEZONE:US/Central
BEGIN:VEVENT
SUMMARY:Jerseyville Halloween Festival 2020
DTSTART;TZID=US/Central:20201031T140000
DTEND;TZID=US/Central:20201031T160000
DTSTAMP:20260420T190126Z
UID:38a8215ed26546baa0c0ce3f61cb0916@saas_stack_varnish:6080
CREATED:20200930T190956Z
LAST-MODIFIED:20200930T191010Z
LOCATION:Dolan Park\, Jerseyville
URL:https://www.jerseyvillelibrary.org/news-events/jerseyville-halloween-f
 estival-2020
END:VEVENT
BEGIN:VTIMEZONE
TZID:US/Central
X-LIC-LOCATION:US/Central
BEGIN:DAYLIGHT
DTSTART:20200308T030000
TZNAME:CDT
TZOFFSETFROM:-0600
TZOFFSETTO:-0500
END:DAYLIGHT
END:VTIMEZONE
END:VCALENDAR
