BEGIN:VCALENDAR
VERSION:2.0
PRODID:-//Plone.org//NONSGML plone.app.event//EN
X-WR-TIMEZONE:US/Central
BEGIN:VEVENT
SUMMARY:Jerseyville Open Late Event
DTSTART;TZID=US/Central:20200825T170000
DTEND;TZID=US/Central:20200825T200000
DTSTAMP:20260420T185309Z
UID:e895afefc6e9421baece90e4e4b8f54d@saas_stack_varnish:6080
CREATED:20200819T180133Z
LAST-MODIFIED:20200819T180147Z
LOCATION:Jerseyville Public Library
URL:https://www.jerseyvillelibrary.org/news-events/jerseyville-open-late-e
 vent
END:VEVENT
BEGIN:VTIMEZONE
TZID:US/Central
X-LIC-LOCATION:US/Central
BEGIN:DAYLIGHT
DTSTART:20200308T030000
TZNAME:CDT
TZOFFSETFROM:-0600
TZOFFSETTO:-0500
END:DAYLIGHT
END:VTIMEZONE
END:VCALENDAR
